BEGIN:VCALENDAR
VERSION:2.0
PRODID:icalendar-ruby
CALSCALE:GREGORIAN
BEGIN:VEVENT
DTSTAMP:20260424T085205Z
UID:8a231f7c-b49f-4ca1-bcc5-dc4f26706d5a
DTSTART;VALUE=DATE:20230303
DESCRIPTION:Property ID# 551417\, Time: 12:00PM
SUMMARY:Auction for 
END:VEVENT
END:VCALENDAR
